BEGIN:VCALENDAR
VERSION:2.0
PRODID:-//RAA MV - ECPv6.15.15//NONSGML v1.0//EN
CALSCALE:GREGORIAN
METHOD:PUBLISH
X-WR-CALNAME:RAA MV
X-ORIGINAL-URL:https://www.raa-mv.de
X-WR-CALDESC:Veranstaltungen für RAA MV
REFRESH-INTERVAL;VALUE=DURATION:PT1H
X-Robots-Tag:noindex
X-PUBLISHED-TTL:PT1H
BEGIN:VTIMEZONE
TZID:Europe/Berlin
BEGIN:DAYLIGHT
TZOFFSETFROM:+0100
TZOFFSETTO:+0200
TZNAME:CEST
DTSTART:20250330T010000
END:DAYLIGHT
BEGIN:STANDARD
TZOFFSETFROM:+0200
TZOFFSETTO:+0100
TZNAME:CET
DTSTART:20251026T010000
END:STANDARD
BEGIN:DAYLIGHT
TZOFFSETFROM:+0100
TZOFFSETTO:+0200
TZNAME:CEST
DTSTART:20260329T010000
END:DAYLIGHT
BEGIN:STANDARD
TZOFFSETFROM:+0200
TZOFFSETTO:+0100
TZNAME:CET
DTSTART:20261025T010000
END:STANDARD
BEGIN:DAYLIGHT
TZOFFSETFROM:+0100
TZOFFSETTO:+0200
TZNAME:CEST
DTSTART:20270328T010000
END:DAYLIGHT
BEGIN:STANDARD
TZOFFSETFROM:+0200
TZOFFSETTO:+0100
TZNAME:CET
DTSTART:20271031T010000
END:STANDARD
BEGIN:DAYLIGHT
TZOFFSETFROM:+0100
TZOFFSETTO:+0200
TZNAME:CEST
DTSTART:20280326T010000
END:DAYLIGHT
BEGIN:STANDARD
TZOFFSETFROM:+0200
TZOFFSETTO:+0100
TZNAME:CET
DTSTART:20281029T010000
END:STANDARD
END:VTIMEZONE
BEGIN:VEVENT
DTSTART;TZID=Europe/Berlin:20261118T140000
DTEND;TZID=Europe/Berlin:20261118T170000
DTSTAMP:20260422T151614
CREATED:20251125T153153Z
LAST-MODIFIED:20251125T153153Z
UID:31557-1795010400-1795021200@www.raa-mv.de
SUMMARY:Qualitätsentwicklung in der Ganztagsschule
DESCRIPTION:Wir möchten Sie und Ihr Team auch in diesem Jahr wieder gern im Schulentwicklungsprozess unterstützen\, zum Beispiel wenn Sie das Pädagogische Konzept aktualisieren. \nÜber 50 ganztägig arbeitende Schulen haben bereits erfolgreich an diesem Workshop-Format teilgenommen. Dabei werden die Stärken sowie mögliche zukünftige Entwicklungsschwerpunkte der Einzelschule systematisch herausgearbeitet. Die Ergebnisse können für die weitere Qualitätsentwicklung vor Ort genutzt werden. \nUm ein effektives\, multiperspektivisches Arbeiten zu garantieren\, bitten wir Sie\, mit einem Team aus 2-3 Kolleg*innen teilzunehmen. Bitte melden Sie jedes Teammitglied einzeln an.\nDas Schulteam kann sich aus Vertreter*innen der Schulleitung\, der Ganztagskoordination\, der Steuergruppe\, der Schulentwicklungsgruppe und der Schulsozialarbeit zusammensetzen. \nWeitere Termine und Informationen finden Sie hier oder können Sie dem Programm-Flyer entnehmen. \nProgramm-Flyer OWS November 26
URL:https://www.raa-mv.de/termin/qws-november26/
LOCATION:online
CATEGORIES:RAA Events
ATTACH;FMTTYPE=image/png:https://www.raa-mv.de/wp-content/uploads/2022/08/Header-Zeitstrukturen.png
ORGANIZER;CN="RAA M-V Serviceagentur Ganzt%C3%A4gig lernen M-V":MAILTO:ganztag@raa-mv.de
END:VEVENT
BEGIN:VEVENT
DTSTART;VALUE=DATE:20261203
DTEND;VALUE=DATE:20261204
DTSTAMP:20260422T151614
CREATED:20260318T140438Z
LAST-MODIFIED:20260318T140438Z
UID:33708-1796256000-1796342399@www.raa-mv.de
SUMMARY:LdE-Zertifikationskurs M5
DESCRIPTION:Innovativen Unterricht gestalten mit Lernen durch Engagement \nUnterricht mit LdE stellt die Lernenden in den Mittelpunkt\, macht neugierig und bietet die Chance für vertiefte Lern- und Verstehensprozesse. Problemlösungskompetenzen und Teamfähigkeit stehen ebenso im Mittelpunkt wie Reflexion und Kreativität\, so dass LdE eine zukunftsorientierte Unterrichts- und Lernkultur ermöglicht.\nIm Zertifikatskurs zeigen wir\, wie Sie ihren Unterricht handlungsorientiert und projektbasiert mit dem pädagogischen Konzept Lernen durch Engagement (LdE) gestalten und zugleich einen gesellschaftlichen Mehrwert entstehen lassen. Sie erfahren\, wie sie ihre Schülerinnen und Schüler dabei unterstützen\, können sich mit dem erlernten Fachwissen in sozialen\, ökologischen\, kulturellen oder politischen Gesellschaftsbereichen zu engagieren und so zentrale Zukunftskompetenzen zu erwerben. \nLdE – Unterrichtsanbindung und Reflexion
URL:https://www.raa-mv.de/termin/lde-zertifikationskurs-m5/
LOCATION:Wird noch bekannt gegeben
CATEGORIES:Extern,RAA Events,RAA Intern
ATTACH;FMTTYPE=image/png:https://www.raa-mv.de/wp-content/uploads/2026/03/Ankuendigungen-Veranstaltungen-SJ-2025_2026-9.png
ORGANIZER;CN="RAA M-V Kompetenzzentrum LdE M-V":MAILTO:lde@raa-mv.de
END:VEVENT
BEGIN:VEVENT
DTSTART;TZID=Europe/Berlin:20261211T090000
DTEND;TZID=Europe/Berlin:20261211T153000
DTSTAMP:20260422T151614
CREATED:20260401T150058Z
LAST-MODIFIED:20260401T152639Z
UID:27889-1796979600-1797003000@www.raa-mv.de
SUMMARY:KULTURELLE BILDUNG IN DER SCHULE - Optionales Zusatsmodul für Kooperationspartner
DESCRIPTION:Veranstaltungsthema Zusatzmodul „KULTURELLE BILDUNG“\n\nDas Zusatzmodul ermöglicht es\, besondere ästhetische Lernzugänge kennenzulernen. Im Kontext pädagogischer Angebote können Arbeitsweisen der Kulturellen Bildung dabei helfen\, dass Erfahrungen vielschichtig und mit allen Sinnen gemacht werden. Kulturelle Bildung kann ein Schlüssel sein\, um besonders anschaulich und aktiv zu arbeiten. Die Aktivitäten der Schüler*innen sollten zur Persönlichkeitsentwicklung beitragen. Das Zusatzmodul vermittelt diese Ansatzpunkte\, um Ganztagsangebote zu bereichern. \nHinweis zur Teilnahme als Modulveranstaltung\nDie erfolgreiche Teilnahme an den einzelnen Modulen wird jeweils mit einer Teilnahmebescheinigung bestätigt. Bei Nachweis der Teilnahmebescheinigungen von sechs Modulen und der Präsentation eines eigenen Unterricht ergänzenden Angebotes erhalten die Teilnehmenden ein Zertifikat. Wenn Teilnehmer/innen\, die bereits an einer oder mehreren Veranstaltungen unserer bisherigen Qualifizierungsreihen teilgenommen haben\, noch fehlende Modul nachholen bzw. die Reihe neu starten möchten\, ist das möglich. \nDie Qualifizierungsreihe findet online statt und ist für alle Teilnehmenden kostenfrei. \n  \nEinwahl\nab 8:30 Uhr Technik-Check\nVeranstaltungszeit: jeweils von 9:00 – 15:30 Uhr\nDie Zugangsdaten werden Ihnen am Vortag der jeweiligen Module per E-Mail zugesandt. \n  \nTermine\nDie ersten Module haben bereits stattgefunden. Bitte nur die Module auswählen\, an denen Sie teilnehmen möchten. \nZusatzmodul:      11.12.2026     Kulturelle Bildung \nModul 4:               22.01.2027    Kommunikation & Gruppenprozesse gestalten \nModul 5:               26.02.2027    Heterogenität & herausfordernde Situationen \nModul 6:               02.04.2027    Ganztagsangebote präsentieren \n  \nProgrammflyer\nProgrammflyer 12. Qualifizierungsreihe \n\nAnmeldung\nWir bitten um eine vorherige Anmeldung über das Veranstaltungstool. Anmeldungen ab dem 2 Modul über diesen Anmeldelink.\nAls Anmeldebestätigung erhalten Sie auf Ihre E-Mail-Adresse von unserem System ein „Ticket“. Dies ist Ihre Anmeldebestätigung. Ihre Teilnahme ist somit automatisch in unserer Teilnahmeliste registriert. Der mit dem Ticket zugesandte QR-Code ist inaktiv.\nDie Zugangsdaten werden Ihnen am Vortag des jeweiligen Moduls per E-Mail zugesandt. \n 
URL:https://www.raa-mv.de/termin/zusatzmodul-reihe-12/
LOCATION:online
ATTACH;FMTTYPE=image/jpeg:https://www.raa-mv.de/wp-content/uploads/2023/08/07d-Kultur-und-Digitalisierung.jpg
ORGANIZER;CN="RAA M-V Serviceagentur Ganzt%C3%A4gig lernen M-V":MAILTO:ganztag@raa-mv.de
END:VEVENT
BEGIN:VEVENT
DTSTART;VALUE=DATE:20270107
DTEND;VALUE=DATE:20270108
DTSTAMP:20260422T151614
CREATED:20260318T140638Z
LAST-MODIFIED:20260318T142901Z
UID:33710-1799280000-1799366399@www.raa-mv.de
SUMMARY:LdE-Zertifikationskurs M6
DESCRIPTION:Innovativen Unterricht gestalten mit Lernen durch Engagement \nUnterricht mit LdE stellt die Lernenden in den Mittelpunkt\, macht neugierig und bietet die Chance für vertiefte Lern- und Verstehensprozesse. Problemlösungskompetenzen und Teamfähigkeit stehen ebenso im Mittelpunkt wie Reflexion und Kreativität\, so dass LdE eine zukunftsorientierte Unterrichts- und Lernkultur ermöglicht.\nIm Zertifikatskurs zeigen wir\, wie Sie ihren Unterricht handlungsorientiert und projektbasiert mit dem pädagogischen Konzept Lernen durch Engagement (LdE) gestalten und zugleich einen gesellschaftlichen Mehrwert entstehen lassen. Sie erfahren\, wie sie ihre Schülerinnen und Schüler dabei unterstützen\, können sich mit dem erlernten Fachwissen in sozialen\, ökologischen\, kulturellen oder politischen Gesellschaftsbereichen zu engagieren und so zentrale Zukunftskompetenzen zu erwerben. \nLdE – Partizipation und Demokratie
URL:https://www.raa-mv.de/termin/lde-zertifikationskurs-m6/
LOCATION:Wird noch bekannt gegeben
CATEGORIES:Extern,RAA Events,RAA Intern
ATTACH;FMTTYPE=image/png:https://www.raa-mv.de/wp-content/uploads/2026/03/Ankuendigungen-Veranstaltungen-SJ-2025_2026-9.png
ORGANIZER;CN="RAA M-V Kompetenzzentrum LdE M-V":MAILTO:lde@raa-mv.de
END:VEVENT
BEGIN:VEVENT
DTSTART;TZID=Europe/Berlin:20270108T000000
DTEND;TZID=Europe/Berlin:20270226T235900
DTSTAMP:20260422T151614
CREATED:20260318T143147Z
LAST-MODIFIED:20260318T143147Z
UID:33712-1799366400-1803686340@www.raa-mv.de
SUMMARY:LdE-Zertifikationskurs M7
DESCRIPTION:Innovativen Unterricht gestalten mit Lernen durch Engagement \nUnterricht mit LdE stellt die Lernenden in den Mittelpunkt\, macht neugierig und bietet die Chance für vertiefte Lern- und Verstehensprozesse. Problemlösungskompetenzen und Teamfähigkeit stehen ebenso im Mittelpunkt wie Reflexion und Kreativität\, so dass LdE eine zukunftsorientierte Unterrichts- und Lernkultur ermöglicht.\nIm Zertifikatskurs zeigen wir\, wie Sie ihren Unterricht handlungsorientiert und projektbasiert mit dem pädagogischen Konzept Lernen durch Engagement (LdE) gestalten und zugleich einen gesellschaftlichen Mehrwert entstehen lassen. Sie erfahren\, wie sie ihre Schülerinnen und Schüler dabei unterstützen\, können sich mit dem erlernten Fachwissen in sozialen\, ökologischen\, kulturellen oder politischen Gesellschaftsbereichen zu engagieren und so zentrale Zukunftskompetenzen zu erwerben. \nLdE – Praxis planen (individuell)
URL:https://www.raa-mv.de/termin/lde-zertifikationskurs-m7/
LOCATION:online
CATEGORIES:Extern,RAA Events,RAA Intern
ATTACH;FMTTYPE=image/png:https://www.raa-mv.de/wp-content/uploads/2026/03/Ankuendigungen-Veranstaltungen-SJ-2025_2026-9.png
ORGANIZER;CN="RAA M-V Kompetenzzentrum LdE M-V":MAILTO:lde@raa-mv.de
END:VEVENT
BEGIN:VEVENT
DTSTART;TZID=Europe/Berlin:20270122T090000
DTEND;TZID=Europe/Berlin:20270122T153000
DTSTAMP:20260422T151614
CREATED:20260401T063007Z
LAST-MODIFIED:20260401T064639Z
UID:27887-1800608400-1800631800@www.raa-mv.de
SUMMARY:KOMMUNIKATION & GRUPPENPROZESSE GESTALTEN
DESCRIPTION:Veranstaltungsthema Modul 4 „KOMMUNIKATION & GRUPPENPROZESSE GESTALTEN“\nIm Mittelpunkt dieses Moduls steht die Gestaltung von Interaktionen und von Kommunikationsprozessen zwischen Kooperationspartnern und Schüler/innen. Hierzu werden Modelle der Kommunikation sowie der Gruppendynamik herangezogen. In diesem Modul werden Grundlagen für wertschätzende Feedbacks praxisorientiert vermittelt. Es werden Möglichkeiten vorgestellt\, um gemeinsam mit den Heranwachsenden Regeln des Zusammenarbeitens zu erstellen. Die erworbenen Kenntnisse und Fähigkeiten fließen in die Planung der eigenen Ganztagsangebote ein. \nInformationen zur Veranstaltungsreihe\nDie Qualifizierungsreihe richtet sich an außerschulische Kooperationspartner in M-V\, die an ganztägig arbeitenden Schulen tätig sind oder es werden möchten. Das modulare Fortbildungsformat stärkt außerschulische Partner in ihrer pädagogischen Arbeit bei der Planung und Gestaltung Unterricht ergänzender Angebote. Die außerschulischen Partner setzen sich systematisch mit dem Aufbau und der Organisation ganztägig arbeitender Schulen in Mecklenburg-Vorpommern auseinander und lernen die Voraussetzungen und praktischen Möglichkeiten der Kooperation mit Schulen kennen. \nWeitere Informationen zu Konzept\, Anliegen und Berichten aus der Reihe erhalten Sie hier. \nHinweis zur Teilnahme als Modulveranstaltung\nDie erfolgreiche Teilnahme an den einzelnen Modulen wird jeweils mit einer Teilnahmebescheinigung bestätigt. Bei Nachweis der Teilnahmebescheinigungen von sechs Modulen und der Präsentation eines eigenen Unterricht ergänzenden Angebotes erhalten die Teilnehmenden ein Zertifikat. Wenn Teilnehmer/innen\, die bereits an einer oder mehreren Veranstaltungen unserer bisherigen Qualifizierungsreihen teilgenommen haben\, noch fehlende Modul nachholen bzw. die Reihe neu starten möchten\, ist das möglich. \nDie Qualifizierungsreihe findet online statt und ist für alle Teilnehmenden kostenfrei. \n  \nEinwahl\n8:30 Uhr Technik-Check\nVeranstaltungszeit: jeweils von 9:00 – 15:30 Uhr\nDie Zugangsdaten werden Ihnen am Vortag der jeweiligen Module per E-Mail zugesandt. \n  \nTermine\nDie ersten Module haben bereits stattgefunden. Bitte nur die Module auswählen\, an denen Sie teilnehmen möchten. \nModul 4:               22.01.2027     Kommunikation & Gruppenprozesse gestalten (Bitte Terminänderung beachten!) \nModul 5:               26.02.2027    Heterogenität & herausfordernde Situationen \nModul 6:               02.04.2027    Ganztagsangebote präsentieren \n  \nProgrammflyer\nProgrammflyer 12. Qualifizierungsreihe \nAnmeldung\nWir bitten um eine vorherige Anmeldung über das Veranstaltungstool. Anmeldungen ab Modul 4 über diesen Anmeldelink.\nAls Anmeldebestätigung erhalten Sie auf Ihre E-Mail-Adresse von unserem System ein „Ticket“. Dies ist Ihre Anmeldebestätigung. Ihre Teilnahme ist somit automatisch in unserer Teilnahmeliste registriert. Der mit dem Ticket zugesandte QR-Code ist inaktiv.\nDie Zugangsdaten werden Ihnen am Vortag des jeweiligen Moduls per E-Mail zugesandt. \n 
URL:https://www.raa-mv.de/termin/modul-4-kommunikation/
LOCATION:online
ATTACH;FMTTYPE=image/png:https://www.raa-mv.de/wp-content/uploads/2024/10/04c-Vernetzung-Striche.png
ORGANIZER;CN="RAA M-V Serviceagentur Ganzt%C3%A4gig lernen M-V":MAILTO:ganztag@raa-mv.de
END:VEVENT
BEGIN:VEVENT
DTSTART;TZID=Europe/Berlin:20270226T090000
DTEND;TZID=Europe/Berlin:20270226T153000
DTSTAMP:20260422T151614
CREATED:20260401T060012Z
LAST-MODIFIED:20260401T063909Z
UID:27197-1803632400-1803655800@www.raa-mv.de
SUMMARY:HETEROGENITÄT UND HERTAUSFORDERNDE SITUATIONEN
DESCRIPTION:Veranstaltungsthema „HETEROGENITÄT & HERAUSFORDERNDE SITUATIONEN“\nIn diesem Modul werden Handlungsstrategien vorgestellt und erprobt\, um erfolgreich mit heterogenen Schülergruppen zu arbeiten. Hierzu werden zum Beispiel alters- und entwicklungsspezifische Besonderheiten praxisnah thematisiert. Um vorbereitet zu sein auf eventuelle Herausforderungen\, werden in diesem Modul auch Strategien und Maßnahmen zur Vermeidung von Konflikten und von eskalierenden Situationen vorgestellt. Eine Sensibilität für soziale Spannungen\, Konfliktstufen und dahinterliegende Bedürfnisse kann sich im Umgang mit Schülergruppen als besonders hilfreich erweisen. \nInformationen zur Veranstaltungsreihe\nDie Qualifizierungsreihe richtet sich an außerschulische Kooperationspartner in M-V\, die an ganztägig arbeitenden Schulen tätig sind oder es werden möchten. Das modulare Fortbildungsformat stärkt außerschulische Partner in ihrer pädagogischen Arbeit bei der Planung und Gestaltung Unterricht ergänzender Angebote. Die außerschulischen Partner setzen sich systematisch mit dem Aufbau und der Organisation ganztägig arbeitender Schulen in Mecklenburg-Vorpommern auseinander und lernen die Voraussetzungen und praktischen Möglichkeiten der Kooperation mit Schulen kennen. \nWeitere Informationen zu Konzept\, Anliegen und Berichten aus der Reihe erhalten Sie hier. \nHinweis zur Teilnahme als Modulveranstaltung\nDie erfolgreiche Teilnahme an den einzelnen Modulen wird jeweils mit einer Teilnahmebescheinigung bestätigt. Bei Nachweis der Teilnahmebescheinigungen von sechs Modulen und der Präsentation eines eigenen Unterricht ergänzenden Angebotes erhalten die Teilnehmenden ein Zertifikat. Wenn Teilnehmer/innen\, die bereits an einer oder mehreren Veranstaltungen unserer bisherigen Qualifizierungsreihen teilgenommen haben\, noch fehlende Modul nachholen bzw. die Reihe neu starten möchten\, ist das möglich. \nDie Qualifizierungsreihe findet online statt und ist für alle Teilnehmenden kostenfrei. \n  \nEinwahl\n8:30 Uhr Technik-Check\nVeranstaltungszeit: jeweils von 9:00 – 15:30 Uhr\nDie Zugangsdaten werden Ihnen am Vortag der jeweiligen Module per E-Mail zugesandt. \n  \nTermine\nDie ersten Module haben bereits stattgefunden. Bitte nur die Module auswählen\, an denen Sie teilnehmen möchten. \nModul 5:               26.02.2027    Heterogenität & herausfordernde Situationen \nModul 6:               02.04.2027    Ganztagsangebote präsentieren \nProgrammflyer\nProgrammflyer 12. Qualifizierungsreihe \n  \nAnmeldung\nWir bitten um eine vorherige Anmeldung über das Veranstaltungstool. Anmeldungen ab Modul 5 über diesen Anmeldelink.\nAls Anmeldebestätigung erhalten Sie auf Ihre E-Mail-Adresse von unserem System ein „Ticket“. Dies ist Ihre Anmeldebestätigung. Ihre Teilnahme ist somit automatisch in unserer Teilnahmeliste registriert. Der mit dem Ticket zugesandte QR-Code ist inaktiv.\nDie Zugangsdaten werden Ihnen am Vortag des jeweiligen Moduls per E-Mail zugesandt. \n  \n  \n 
URL:https://www.raa-mv.de/termin/modul-5/
LOCATION:online
ATTACH;FMTTYPE=image/png:https://www.raa-mv.de/wp-content/uploads/2023/12/06c-Lernumgebungen-Klassenraum-1.png
ORGANIZER;CN="RAA M-V Serviceagentur Ganzt%C3%A4gig lernen M-V":MAILTO:ganztag@raa-mv.de
END:VEVENT
BEGIN:VEVENT
DTSTART;VALUE=DATE:20270304
DTEND;VALUE=DATE:20270305
DTSTAMP:20260422T151614
CREATED:20260318T145405Z
LAST-MODIFIED:20260318T145405Z
UID:33716-1804118400-1804204799@www.raa-mv.de
SUMMARY:LdE-Zertifikationskurs M8
DESCRIPTION:Innovativen Unterricht gestalten mit Lernen durch Engagement \nUnterricht mit LdE stellt die Lernenden in den Mittelpunkt\, macht neugierig und bietet die Chance für vertiefte Lern- und Verstehensprozesse. Problemlösungskompetenzen und Teamfähigkeit stehen ebenso im Mittelpunkt wie Reflexion und Kreativität\, so dass LdE eine zukunftsorientierte Unterrichts- und Lernkultur ermöglicht.\nIm Zertifikatskurs zeigen wir\, wie Sie ihren Unterricht handlungsorientiert und projektbasiert mit dem pädagogischen Konzept Lernen durch Engagement (LdE) gestalten und zugleich einen gesellschaftlichen Mehrwert entstehen lassen. Sie erfahren\, wie sie ihre Schülerinnen und Schüler dabei unterstützen\, können sich mit dem erlernten Fachwissen in sozialen\, ökologischen\, kulturellen oder politischen Gesellschaftsbereichen zu engagieren und so zentrale Zukunftskompetenzen zu erwerben. \nLdE – Praxis: Mein Unterrichtsprojet umsetzen
URL:https://www.raa-mv.de/termin/lde-zertifikationskurs-m8/
LOCATION:Wird noch bekannt gegeben
CATEGORIES:Extern,RAA Events,RAA Intern
ATTACH;FMTTYPE=image/png:https://www.raa-mv.de/wp-content/uploads/2026/03/Ankuendigungen-Veranstaltungen-SJ-2025_2026-9.png
ORGANIZER;CN="RAA M-V Kompetenzzentrum LdE M-V":MAILTO:lde@raa-mv.de
END:VEVENT
BEGIN:VEVENT
DTSTART;TZID=Europe/Berlin:20270305T000000
DTEND;TZID=Europe/Berlin:20270602T235900
DTSTAMP:20260422T151614
CREATED:20260318T145131Z
LAST-MODIFIED:20260318T145131Z
UID:33714-1804204800-1811980740@www.raa-mv.de
SUMMARY:LdE-Zertifikationskurs M9
DESCRIPTION:Innovativen Unterricht gestalten mit Lernen durch Engagement \nUnterricht mit LdE stellt die Lernenden in den Mittelpunkt\, macht neugierig und bietet die Chance für vertiefte Lern- und Verstehensprozesse. Problemlösungskompetenzen und Teamfähigkeit stehen ebenso im Mittelpunkt wie Reflexion und Kreativität\, so dass LdE eine zukunftsorientierte Unterrichts- und Lernkultur ermöglicht.\nIm Zertifikatskurs zeigen wir\, wie Sie ihren Unterricht handlungsorientiert und projektbasiert mit dem pädagogischen Konzept Lernen durch Engagement (LdE) gestalten und zugleich einen gesellschaftlichen Mehrwert entstehen lassen. Sie erfahren\, wie sie ihre Schülerinnen und Schüler dabei unterstützen\, können sich mit dem erlernten Fachwissen in sozialen\, ökologischen\, kulturellen oder politischen Gesellschaftsbereichen zu engagieren und so zentrale Zukunftskompetenzen zu erwerben. \nLdE – Praxisberatung (individuell)
URL:https://www.raa-mv.de/termin/lde-zertifikationskurs-m9/
LOCATION:online
CATEGORIES:Extern,RAA Events,RAA Intern
ATTACH;FMTTYPE=image/png:https://www.raa-mv.de/wp-content/uploads/2026/03/Ankuendigungen-Veranstaltungen-SJ-2025_2026-9.png
ORGANIZER;CN="RAA M-V Kompetenzzentrum LdE M-V":MAILTO:lde@raa-mv.de
END:VEVENT
BEGIN:VEVENT
DTSTART;VALUE=DATE:20270603
DTEND;VALUE=DATE:20270604
DTSTAMP:20260422T151614
CREATED:20260318T145645Z
LAST-MODIFIED:20260318T145645Z
UID:33718-1811980800-1812067199@www.raa-mv.de
SUMMARY:LdE-Zertifikationskurs M10
DESCRIPTION:Innovativen Unterricht gestalten mit Lernen durch Engagement \nUnterricht mit LdE stellt die Lernenden in den Mittelpunkt\, macht neugierig und bietet die Chance für vertiefte Lern- und Verstehensprozesse. Problemlösungskompetenzen und Teamfähigkeit stehen ebenso im Mittelpunkt wie Reflexion und Kreativität\, so dass LdE eine zukunftsorientierte Unterrichts- und Lernkultur ermöglicht.\nIm Zertifikatskurs zeigen wir\, wie Sie ihren Unterricht handlungsorientiert und projektbasiert mit dem pädagogischen Konzept Lernen durch Engagement (LdE) gestalten und zugleich einen gesellschaftlichen Mehrwert entstehen lassen. Sie erfahren\, wie sie ihre Schülerinnen und Schüler dabei unterstützen\, können sich mit dem erlernten Fachwissen in sozialen\, ökologischen\, kulturellen oder politischen Gesellschaftsbereichen zu engagieren und so zentrale Zukunftskompetenzen zu erwerben. \nLdE – Projektpräsentationen
URL:https://www.raa-mv.de/termin/lde-zertifikationskurs-m10/
LOCATION:Wird noch bekannt gegeben
CATEGORIES:Extern,RAA Events,RAA Intern
ATTACH;FMTTYPE=image/png:https://www.raa-mv.de/wp-content/uploads/2026/03/Ankuendigungen-Veranstaltungen-SJ-2025_2026-9.png
ORGANIZER;CN="RAA M-V Kompetenzzentrum LdE M-V":MAILTO:lde@raa-mv.de
END:VEVENT
END:VCALENDAR