BEGIN:VCALENDAR
VERSION:2.0
PRODID:-//RAA MV - ECPv6.15.15//NONSGML v1.0//EN
CALSCALE:GREGORIAN
METHOD:PUBLISH
X-WR-CALNAME:RAA MV
X-ORIGINAL-URL:https://www.raa-mv.de
X-WR-CALDESC:Veranstaltungen für RAA MV
REFRESH-INTERVAL;VALUE=DURATION:PT1H
X-Robots-Tag:noindex
X-PUBLISHED-TTL:PT1H
BEGIN:VTIMEZONE
TZID:Europe/Berlin
BEGIN:DAYLIGHT
TZOFFSETFROM:+0100
TZOFFSETTO:+0200
TZNAME:CEST
DTSTART:20250330T010000
END:DAYLIGHT
BEGIN:STANDARD
TZOFFSETFROM:+0200
TZOFFSETTO:+0100
TZNAME:CET
DTSTART:20251026T010000
END:STANDARD
BEGIN:DAYLIGHT
TZOFFSETFROM:+0100
TZOFFSETTO:+0200
TZNAME:CEST
DTSTART:20260329T010000
END:DAYLIGHT
BEGIN:STANDARD
TZOFFSETFROM:+0200
TZOFFSETTO:+0100
TZNAME:CET
DTSTART:20261025T010000
END:STANDARD
BEGIN:DAYLIGHT
TZOFFSETFROM:+0100
TZOFFSETTO:+0200
TZNAME:CEST
DTSTART:20270328T010000
END:DAYLIGHT
BEGIN:STANDARD
TZOFFSETFROM:+0200
TZOFFSETTO:+0100
TZNAME:CET
DTSTART:20271031T010000
END:STANDARD
END:VTIMEZONE
BEGIN:VEVENT
DTSTART;TZID=Europe/Berlin:20260225T170000
DTEND;TZID=Europe/Berlin:20260225T200000
DTSTAMP:20260424T100720
CREATED:20260212T085626Z
LAST-MODIFIED:20260223T152928Z
UID:32818-1772038800-1772049600@www.raa-mv.de
SUMMARY:Werkstattgespräch der Partnerschaft für Demokratie Greifswald
DESCRIPTION:Wie steht es um das Miteinander in unserer Stadt? Wo erleben wir ein starkes Wir-Gefühl und an welchen Stellen gibt es Herausforderungen\, denen wir uns gemeinsam stellen müssen? \nIn den vergangenen Monaten hat die Partnerschaft für Demokratie Greifswald genau diese Fragen unter die Lupe genommen. Im Rahmen einer „Situations- und Ressourcenanalyse“ hat das Team der Camino Werkstatt viele Gespräche mit engagierten Menschen und Fachkräften in unserer Stadt geführt. Ziel war es\, ein ehrliches Bild davon zu zeichnen\, was Greifswald in den Bereichen Vielfalt\, demokratische Kultur und Zusammenhalt bewegt. \nJetzt sind Sie gefragt!\nDemokratie ist kein fertiger Zustand\, sondern ein lebendiger Prozess\, den wir alle hier in Greifswald tagtäglich gestalten. Deshalb möchten wir die ersten Ergebnisse der Analyse nicht einfach nur präsentieren\, sondern sie gemeinsam mit Ihnen reflektieren. Wir laden Sie herzlich ein\, Ihre Perspektiven einzubringen und mit uns ins Gespräch zu kommen. \nWas erwartet Sie beim Werkstattgespräch?\n\n\nEinblick in die Analyse: Wir stellen Ihnen die zentralen Ergebnisse\, Stärken und Bedarfe vor\, die für Greifswald ermittelt wurden. \n\n\nGemeinsame Reflexion: Passen die Ergebnisse zu Ihren persönlichen Erfahrungen im Alltag\, im Verein oder im Beruf? Wir gleichen die Theorie mit Ihrer Praxis ab. \n\n\nAusblick: Ihre Impulse helfen uns dabei\, die strategischen Ziele für unsere künftige Arbeit festzulegen und konkrete Maßnahmen für ein solidarisches Greifswald zu planen. \n\n\nEgal\, ob Sie in einer Initiative aktiv sind\, sich beruflich für das Gemeinwohl einsetzen oder sich einfach so für ein respektvolles Miteinander interessieren – Ihr Wissen und Ihre Sichtweise sind wertvoll für uns. \nLassen Sie uns gemeinsam daran arbeiten\, Greifswald als einen Ort zu stärken\, an dem Vielfalt wertgeschätzt wird und jede Stimme zählt. Wir freuen uns sehr auf den Austausch mit Ihnen! \n\n\nWann? 25. Februar 2026\, 17:00 bis 20:00 Uhr \n\n\nWo? Aula der Grundschule Greif\, Max-Planck-Straße 8\, 17491 Greifswald \n\n\nHinweis zur Anmeldung: Für eine gute Vorbereitung (auch mit Blick auf einen kleinen Imbiss) bitten wir Sie um eine kurze Anmeldung unten auf der Seite. \nBei Rückfragen stehen ich Ihnen gerne unter anna.kassautzki@raa-mv.de oder +49 151 555 47092 zur Verfügung.
URL:https://www.raa-mv.de/termin/werkstattgespraech-der-partnerschaft-fuer-demokratie-greifswald/
LOCATION:Grundschule Greif\, Max-Planck-Straße 8\, Greifswald\, 17491\, Germany
ATTACH;FMTTYPE=image/jpeg:https://www.raa-mv.de/wp-content/uploads/2025/07/RAA-Projekt-Partnerschaft-fuer-Demokratie-Greifswald.jpg
END:VEVENT
END:VCALENDAR