BEGIN:VCALENDAR
VERSION:2.0
PRODID:-//RAA MV - ECPv6.15.15//NONSGML v1.0//EN
CALSCALE:GREGORIAN
METHOD:PUBLISH
X-WR-CALNAME:RAA MV
X-ORIGINAL-URL:https://www.raa-mv.de
X-WR-CALDESC:Veranstaltungen für RAA MV
REFRESH-INTERVAL;VALUE=DURATION:PT1H
X-Robots-Tag:noindex
X-PUBLISHED-TTL:PT1H
BEGIN:VTIMEZONE
TZID:Europe/Berlin
BEGIN:DAYLIGHT
TZOFFSETFROM:+0100
TZOFFSETTO:+0200
TZNAME:CEST
DTSTART:20240331T010000
END:DAYLIGHT
BEGIN:STANDARD
TZOFFSETFROM:+0200
TZOFFSETTO:+0100
TZNAME:CET
DTSTART:20241027T010000
END:STANDARD
BEGIN:DAYLIGHT
TZOFFSETFROM:+0100
TZOFFSETTO:+0200
TZNAME:CEST
DTSTART:20250330T010000
END:DAYLIGHT
BEGIN:STANDARD
TZOFFSETFROM:+0200
TZOFFSETTO:+0100
TZNAME:CET
DTSTART:20251026T010000
END:STANDARD
BEGIN:DAYLIGHT
TZOFFSETFROM:+0100
TZOFFSETTO:+0200
TZNAME:CEST
DTSTART:20260329T010000
END:DAYLIGHT
BEGIN:STANDARD
TZOFFSETFROM:+0200
TZOFFSETTO:+0100
TZNAME:CET
DTSTART:20261025T010000
END:STANDARD
END:VTIMEZONE
BEGIN:VEVENT
DTSTART;TZID=Europe/Berlin:20251118T140000
DTEND;TZID=Europe/Berlin:20251118T163000
DTSTAMP:20260422T104415
CREATED:20250926T131814Z
LAST-MODIFIED:20250926T134252Z
UID:30660-1763474400-1763483400@www.raa-mv.de
SUMMARY:Online-Workshop: Sensibilisierung im Umgang mit vulnerablen Gruppen & Antiziganismus
DESCRIPTION:Wie können Kinder geflüchteter Familien zwischen Schule und Wohnumfeld besser unterstützt werden? Welche Chancen und Herausforderungen ergeben sich dabei für Fachkräfte – und wie lässt sich diese Aufgabe langfristig stärken und institutionell verankern? \nIm Mittelpunkt stehen Bildungsberater*innen und Integrationscoaches: Sie begleiten Kinder und ihre Familien\, unterstützen bei Bildungsübergängen und tragen dazu bei\, strukturelle Barrieren abzubauen. Der Workshop gibt Einblicke in Herausforderungen und Chancen der Bildungsberatung\, vermittelt praxisnahes Werkzeug und lädt zur Selbstreflexion ein. \nZielgruppe: Sozialarbeiter*innen\, Lehrkräfte\, Erzieher*innen\, Integrationscoaches\, Bildungs- und Migrationsberater*innen \nReferent: Berry Paskowski – Bildungsberater zu den Themen Antiziganismus\, Geschichte der Sinti und Roma\, Demokratie und Antirassismus beim Verband Deutscher Sinti und Roma e.V.\, Landesverband Schleswig-Holstein; stellvertretender Vorsitzender\, Co-Autor diverser Publikationen (u. a. Pädagogische Hochschule Heidelberg) und erfahrener Bildungstrainer für verschiedene Alters- und Zielgruppen. \nDie Teilnahme ist kostenfrei. \nFragen vorab gern an Dr. Iris Wachsmuth (Projektleiterin RomDialog). \nKontakt:\nDr. Iris Wachsmuth\niris.wachsmuth@raa-mv.de\n+49 151 50562584
URL:https://www.raa-mv.de/termin/online-workshop-sensibilisierung-im-umgang-mit-vulnerablen-gruppen-antiziganismus-2/
LOCATION:Zoom
CATEGORIES:RAA Events
ATTACH;FMTTYPE=image/png:https://www.raa-mv.de/wp-content/uploads/2025/05/Projektlogo_RomDialog.png
ORGANIZER;CN="RAA M-V RomDialog":MAILTO:romdialog@raa-mv.de
END:VEVENT
END:VCALENDAR